BEGIN:VCALENDAR
VERSION:2.0
PRODID:-//St. Mary Star of the Sea - ECPv6.11.2//NONSGML v1.0//EN
CALSCALE:GREGORIAN
METHOD:PUBLISH
X-ORIGINAL-URL:https://stmaryholysavior.com
X-WR-CALDESC:Events for St. Mary Star of the Sea
REFRESH-INTERVAL;VALUE=DURATION:PT1H
X-Robots-Tag:noindex
X-PUBLISHED-TTL:PT1H
BEGIN:VTIMEZONE
TZID:America/New_York
BEGIN:DAYLIGHT
TZOFFSETFROM:-0500
TZOFFSETTO:-0400
TZNAME:EDT
DTSTART:20240310T070000
END:DAYLIGHT
BEGIN:STANDARD
TZOFFSETFROM:-0400
TZOFFSETTO:-0500
TZNAME:EST
DTSTART:20241103T060000
END:STANDARD
END:VTIMEZONE
BEGIN:VEVENT
DTSTART;TZID=America/New_York:20240721T070000
DTEND;TZID=America/New_York:20240721T080000
DTSTAMP:20260422T002231
CREATED:20231205T180826Z
LAST-MODIFIED:20231205T180826Z
UID:2075-1721545200-1721548800@stmaryholysavior.com
SUMMARY:Mass 7:00 AM St. Mary's
DESCRIPTION:
URL:https://stmaryholysavior.com/event/mass-700-am-st-marys/2024-07-21/
CATEGORIES:Blue
END:VEVENT
BEGIN:VEVENT
DTSTART;TZID=America/New_York:20240721T090000
DTEND;TZID=America/New_York:20240721T100000
DTSTAMP:20260422T002231
CREATED:20231219T180300Z
LAST-MODIFIED:20231219T180300Z
UID:2090-1721552400-1721556000@stmaryholysavior.com
SUMMARY:Mass 9:00AM at Holy Savior
DESCRIPTION:
URL:https://stmaryholysavior.com/event/mass-900am-at-holy-savior/2024-07-21/
CATEGORIES:Blue
END:VEVENT
BEGIN:VEVENT
DTSTART;TZID=America/New_York:20240721T110000
DTEND;TZID=America/New_York:20240721T120000
DTSTAMP:20260422T002231
CREATED:20231219T180445Z
LAST-MODIFIED:20231219T180445Z
UID:2110-1721559600-1721563200@stmaryholysavior.com
SUMMARY:Mass 11:00AM at Holy Savior
DESCRIPTION:
URL:https://stmaryholysavior.com/event/mass-1100am-at-holy-savior/2024-07-21/
CATEGORIES:Blue
END:VEVENT
BEGIN:VEVENT
DTSTART;TZID=America/New_York:20240722T083000
DTEND;TZID=America/New_York:20240722T090000
DTSTAMP:20260422T002231
CREATED:20240528T154651Z
LAST-MODIFIED:20240528T154651Z
UID:3619-1721637000-1721638800@stmaryholysavior.com
SUMMARY:Mass 8:30 AM at Holy Savior
DESCRIPTION:
URL:https://stmaryholysavior.com/event/mass-830-am-at-holy-savior/2024-07-22/
CATEGORIES:Blue
END:VEVENT
BEGIN:VEVENT
DTSTART;TZID=America/New_York:20240722T093000
DTEND;TZID=America/New_York:20240722T120000
DTSTAMP:20260422T002231
CREATED:20240611T155959Z
LAST-MODIFIED:20240611T155959Z
UID:3690-1721640600-1721649600@stmaryholysavior.com
SUMMARY:Vacation Bible School 9:30AM
DESCRIPTION:
URL:https://stmaryholysavior.com/event/vacation-bible-school-930am/2024-07-22/
CATEGORIES:Yellow
END:VEVENT
BEGIN:VEVENT
DTSTART;TZID=America/New_York:20240723T083000
DTEND;TZID=America/New_York:20240723T090000
DTSTAMP:20260422T002231
CREATED:20240528T155018Z
LAST-MODIFIED:20240528T155018Z
UID:3639-1721723400-1721725200@stmaryholysavior.com
SUMMARY:Mass 8:30 AM at Holy Savior
DESCRIPTION:
URL:https://stmaryholysavior.com/event/mass-830-am-at-holy-savior-2/2024-07-23/
CATEGORIES:Blue
END:VEVENT
BEGIN:VEVENT
DTSTART;TZID=America/New_York:20240723T093000
DTEND;TZID=America/New_York:20240723T120000
DTSTAMP:20260422T002232
CREATED:20240611T155959Z
LAST-MODIFIED:20240611T155959Z
UID:3691-1721727000-1721736000@stmaryholysavior.com
SUMMARY:Vacation Bible School 9:30AM
DESCRIPTION:
URL:https://stmaryholysavior.com/event/vacation-bible-school-930am/2024-07-23/
CATEGORIES:Yellow
END:VEVENT
BEGIN:VEVENT
DTSTART;TZID=America/New_York:20240724T083000
DTEND;TZID=America/New_York:20240724T090000
DTSTAMP:20260422T002232
CREATED:20240528T155151Z
LAST-MODIFIED:20240528T155405Z
UID:3658-1721809800-1721811600@stmaryholysavior.com
SUMMARY:Mass 8:30 AM at St. Mary's
DESCRIPTION:
URL:https://stmaryholysavior.com/event/mass-830-am-at-holy-savior-3/2024-07-24/
CATEGORIES:Blue
END:VEVENT
BEGIN:VEVENT
DTSTART;TZID=America/New_York:20240724T090000
DTEND;TZID=America/New_York:20240724T110000
DTSTAMP:20260422T002232
CREATED:20240501T185009Z
LAST-MODIFIED:20240501T185009Z
UID:3562-1721811600-1721818800@stmaryholysavior.com
SUMMARY:Bazaar Crafters 9:00-11:00AM Room 120
DESCRIPTION:
URL:https://stmaryholysavior.com/event/bazaar-crafters-900-1100am-room-120/2024-07-24/
CATEGORIES:Yellow
END:VEVENT
BEGIN:VEVENT
DTSTART;TZID=America/New_York:20240724T093000
DTEND;TZID=America/New_York:20240724T120000
DTSTAMP:20260422T002232
CREATED:20240611T155959Z
LAST-MODIFIED:20240611T155959Z
UID:3692-1721813400-1721822400@stmaryholysavior.com
SUMMARY:Vacation Bible School 9:30AM
DESCRIPTION:
URL:https://stmaryholysavior.com/event/vacation-bible-school-930am/2024-07-24/
CATEGORIES:Yellow
END:VEVENT
BEGIN:VEVENT
DTSTART;TZID=America/New_York:20240725T083000
DTEND;TZID=America/New_York:20240725T090000
DTSTAMP:20260422T002232
CREATED:20240125T171422Z
LAST-MODIFIED:20240528T153222Z
UID:3204-1721896200-1721898000@stmaryholysavior.com
SUMMARY:Mass 8:30 AM at Holy Savior
DESCRIPTION:
URL:https://stmaryholysavior.com/event/mass-830-am-at-st-marys-11-2024-07-25/
CATEGORIES:Blue
END:VEVENT
BEGIN:VEVENT
DTSTART;TZID=America/New_York:20240725T093000
DTEND;TZID=America/New_York:20240725T120000
DTSTAMP:20260422T002232
CREATED:20240611T155959Z
LAST-MODIFIED:20240611T155959Z
UID:3693-1721899800-1721908800@stmaryholysavior.com
SUMMARY:Vacation Bible School 9:30AM
DESCRIPTION:
URL:https://stmaryholysavior.com/event/vacation-bible-school-930am/2024-07-25/
CATEGORIES:Yellow
END:VEVENT
BEGIN:VEVENT
DTSTART;VALUE=DATE:20240726
DTEND;VALUE=DATE:20240727
DTSTAMP:20260422T002232
CREATED:20240125T171042Z
LAST-MODIFIED:20240125T171042Z
UID:3151-1721952000-1722038399@stmaryholysavior.com
SUMMARY:No Mass on Friday
DESCRIPTION:
URL:https://stmaryholysavior.com/event/no-mass-on-friday/2024-07-26/
CATEGORIES:Blue
END:VEVENT
BEGIN:VEVENT
DTSTART;TZID=America/New_York:20240726T093000
DTEND;TZID=America/New_York:20240726T120000
DTSTAMP:20260422T002232
CREATED:20240611T155959Z
LAST-MODIFIED:20240611T155959Z
UID:3694-1721986200-1721995200@stmaryholysavior.com
SUMMARY:Vacation Bible School 9:30AM
DESCRIPTION:
URL:https://stmaryholysavior.com/event/vacation-bible-school-930am/2024-07-26/
CATEGORIES:Yellow
END:VEVENT
BEGIN:VEVENT
DTSTART;TZID=America/New_York:20240727T160000
DTEND;TZID=America/New_York:20240727T170000
DTSTAMP:20260422T002232
CREATED:20231219T175054Z
LAST-MODIFIED:20231219T175054Z
UID:2009-1722096000-1722099600@stmaryholysavior.com
SUMMARY:Confession 4:00PM at Holy Savior
DESCRIPTION:
URL:https://stmaryholysavior.com/event/confession-400pm-at-holy-savior/2024-07-27/
CATEGORIES:Blue
END:VEVENT
BEGIN:VEVENT
DTSTART;TZID=America/New_York:20240727T171500
DTEND;TZID=America/New_York:20240727T181500
DTSTAMP:20260422T002232
CREATED:20231219T182028Z
LAST-MODIFIED:20231219T182028Z
UID:2169-1722100500-1722104100@stmaryholysavior.com
SUMMARY:Mass 5:15PM at Holy Savior
DESCRIPTION:
URL:https://stmaryholysavior.com/event/mass-515pm-at-holy-savior/2024-07-27/
CATEGORIES:Blue
END:VEVENT
BEGIN:VEVENT
DTSTART;TZID=America/New_York:20240728T070000
DTEND;TZID=America/New_York:20240728T080000
DTSTAMP:20260422T002232
CREATED:20231205T180826Z
LAST-MODIFIED:20231205T180826Z
UID:2076-1722150000-1722153600@stmaryholysavior.com
SUMMARY:Mass 7:00 AM St. Mary's
DESCRIPTION:
URL:https://stmaryholysavior.com/event/mass-700-am-st-marys/2024-07-28/
CATEGORIES:Blue
END:VEVENT
BEGIN:VEVENT
DTSTART;TZID=America/New_York:20240728T090000
DTEND;TZID=America/New_York:20240728T100000
DTSTAMP:20260422T002232
CREATED:20231219T180300Z
LAST-MODIFIED:20231219T180300Z
UID:2091-1722157200-1722160800@stmaryholysavior.com
SUMMARY:Mass 9:00AM at Holy Savior
DESCRIPTION:
URL:https://stmaryholysavior.com/event/mass-900am-at-holy-savior/2024-07-28/
CATEGORIES:Blue
END:VEVENT
BEGIN:VEVENT
DTSTART;TZID=America/New_York:20240728T110000
DTEND;TZID=America/New_York:20240728T120000
DTSTAMP:20260422T002232
CREATED:20231219T180445Z
LAST-MODIFIED:20231219T180445Z
UID:2111-1722164400-1722168000@stmaryholysavior.com
SUMMARY:Mass 11:00AM at Holy Savior
DESCRIPTION:
URL:https://stmaryholysavior.com/event/mass-1100am-at-holy-savior/2024-07-28/
CATEGORIES:Blue
END:VEVENT
BEGIN:VEVENT
DTSTART;TZID=America/New_York:20240729T083000
DTEND;TZID=America/New_York:20240729T090000
DTSTAMP:20260422T002232
CREATED:20240528T154651Z
LAST-MODIFIED:20240528T154651Z
UID:3620-1722241800-1722243600@stmaryholysavior.com
SUMMARY:Mass 8:30 AM at Holy Savior
DESCRIPTION:
URL:https://stmaryholysavior.com/event/mass-830-am-at-holy-savior/2024-07-29/
CATEGORIES:Blue
END:VEVENT
BEGIN:VEVENT
DTSTART;TZID=America/New_York:20240730T083000
DTEND;TZID=America/New_York:20240730T090000
DTSTAMP:20260422T002232
CREATED:20240528T155018Z
LAST-MODIFIED:20240528T155018Z
UID:3640-1722328200-1722330000@stmaryholysavior.com
SUMMARY:Mass 8:30 AM at Holy Savior
DESCRIPTION:
URL:https://stmaryholysavior.com/event/mass-830-am-at-holy-savior-2/2024-07-30/
CATEGORIES:Blue
END:VEVENT
BEGIN:VEVENT
DTSTART;TZID=America/New_York:20240731T083000
DTEND;TZID=America/New_York:20240731T090000
DTSTAMP:20260422T002232
CREATED:20240528T155151Z
LAST-MODIFIED:20240528T155405Z
UID:3659-1722414600-1722416400@stmaryholysavior.com
SUMMARY:Mass 8:30 AM at St. Mary's
DESCRIPTION:
URL:https://stmaryholysavior.com/event/mass-830-am-at-holy-savior-3/2024-07-31/
CATEGORIES:Blue
END:VEVENT
BEGIN:VEVENT
DTSTART;TZID=America/New_York:20240731T090000
DTEND;TZID=America/New_York:20240731T110000
DTSTAMP:20260422T002232
CREATED:20240501T185009Z
LAST-MODIFIED:20240501T185009Z
UID:3563-1722416400-1722423600@stmaryholysavior.com
SUMMARY:Bazaar Crafters 9:00-11:00AM Room 120
DESCRIPTION:
URL:https://stmaryholysavior.com/event/bazaar-crafters-900-1100am-room-120/2024-07-31/
CATEGORIES:Yellow
END:VEVENT
BEGIN:VEVENT
DTSTART;TZID=America/New_York:20240801T083000
DTEND;TZID=America/New_York:20240801T090000
DTSTAMP:20260422T002232
CREATED:20240125T171422Z
LAST-MODIFIED:20240528T153444Z
UID:3205-1722501000-1722502800@stmaryholysavior.com
SUMMARY:Mass 8:30 AM at Holy Savior
DESCRIPTION:
URL:https://stmaryholysavior.com/event/mass-830-am-at-st-marys-11-2024-08-01/
CATEGORIES:Blue
END:VEVENT
BEGIN:VEVENT
DTSTART;VALUE=DATE:20240802
DTEND;VALUE=DATE:20240803
DTSTAMP:20260422T002232
CREATED:20240125T171042Z
LAST-MODIFIED:20240125T171042Z
UID:3152-1722556800-1722643199@stmaryholysavior.com
SUMMARY:No Mass on Friday
DESCRIPTION:
URL:https://stmaryholysavior.com/event/no-mass-on-friday/2024-08-02/
CATEGORIES:Blue
END:VEVENT
BEGIN:VEVENT
DTSTART;TZID=America/New_York:20240803T160000
DTEND;TZID=America/New_York:20240803T170000
DTSTAMP:20260422T002232
CREATED:20231219T175054Z
LAST-MODIFIED:20231219T175054Z
UID:2010-1722700800-1722704400@stmaryholysavior.com
SUMMARY:Confession 4:00PM at Holy Savior
DESCRIPTION:
URL:https://stmaryholysavior.com/event/confession-400pm-at-holy-savior/2024-08-03/
CATEGORIES:Blue
END:VEVENT
BEGIN:VEVENT
DTSTART;TZID=America/New_York:20240803T171500
DTEND;TZID=America/New_York:20240803T181500
DTSTAMP:20260422T002232
CREATED:20231219T182028Z
LAST-MODIFIED:20231219T182028Z
UID:2170-1722705300-1722708900@stmaryholysavior.com
SUMMARY:Mass 5:15PM at Holy Savior
DESCRIPTION:
URL:https://stmaryholysavior.com/event/mass-515pm-at-holy-savior/2024-08-03/
CATEGORIES:Blue
END:VEVENT
BEGIN:VEVENT
DTSTART;TZID=America/New_York:20240804T070000
DTEND;TZID=America/New_York:20240804T080000
DTSTAMP:20260422T002232
CREATED:20231205T180826Z
LAST-MODIFIED:20231205T180826Z
UID:2077-1722754800-1722758400@stmaryholysavior.com
SUMMARY:Mass 7:00 AM St. Mary's
DESCRIPTION:
URL:https://stmaryholysavior.com/event/mass-700-am-st-marys/2024-08-04/
CATEGORIES:Blue
END:VEVENT
BEGIN:VEVENT
DTSTART;TZID=America/New_York:20240804T090000
DTEND;TZID=America/New_York:20240804T100000
DTSTAMP:20260422T002232
CREATED:20231219T180300Z
LAST-MODIFIED:20231219T180300Z
UID:2092-1722762000-1722765600@stmaryholysavior.com
SUMMARY:Mass 9:00AM at Holy Savior
DESCRIPTION:
URL:https://stmaryholysavior.com/event/mass-900am-at-holy-savior/2024-08-04/
CATEGORIES:Blue
END:VEVENT
BEGIN:VEVENT
DTSTART;TZID=America/New_York:20240804T110000
DTEND;TZID=America/New_York:20240804T120000
DTSTAMP:20260422T002232
CREATED:20231219T180445Z
LAST-MODIFIED:20231219T180445Z
UID:2112-1722769200-1722772800@stmaryholysavior.com
SUMMARY:Mass 11:00AM at Holy Savior
DESCRIPTION:
URL:https://stmaryholysavior.com/event/mass-1100am-at-holy-savior/2024-08-04/
CATEGORIES:Blue
END:VEVENT
END:VCALENDAR