BEGIN:VCALENDAR
VERSION:2.0
PRODID:-//St. Mary Star of the Sea - ECPv6.11.2//NONSGML v1.0//EN
CALSCALE:GREGORIAN
METHOD:PUBLISH
X-ORIGINAL-URL:https://stmaryholysavior.com
X-WR-CALDESC:Events for St. Mary Star of the Sea
REFRESH-INTERVAL;VALUE=DURATION:PT1H
X-Robots-Tag:noindex
X-PUBLISHED-TTL:PT1H
BEGIN:VTIMEZONE
TZID:America/New_York
BEGIN:DAYLIGHT
TZOFFSETFROM:-0500
TZOFFSETTO:-0400
TZNAME:EDT
DTSTART:20240310T070000
END:DAYLIGHT
BEGIN:STANDARD
TZOFFSETFROM:-0400
TZOFFSETTO:-0500
TZNAME:EST
DTSTART:20241103T060000
END:STANDARD
END:VTIMEZONE
BEGIN:VEVENT
DTSTART;VALUE=DATE:20240128
DTEND;VALUE=DATE:20240204
DTSTAMP:20260423T013914
CREATED:20231206T165608Z
LAST-MODIFIED:20231206T165608Z
UID:1583-1706400000-1707004799@stmaryholysavior.com
SUMMARY:National Catholic Schools Week
DESCRIPTION:
URL:https://stmaryholysavior.com/event/national-catholic-schools-week/
CATEGORIES:Yellow
END:VEVENT
BEGIN:VEVENT
DTSTART;VALUE=DATE:20240204
DTEND;VALUE=DATE:20240205
DTSTAMP:20260423T013914
CREATED:20240207T155324Z
LAST-MODIFIED:20240207T155324Z
UID:3427-1707004800-1707091199@stmaryholysavior.com
SUMMARY:Fifth Sunday in Ordinary Time
DESCRIPTION:
URL:https://stmaryholysavior.com/event/fifth-sunday-in-ordinary-time/
CATEGORIES:Blue
END:VEVENT
BEGIN:VEVENT
DTSTART;TZID=America/New_York:20240205T083000
DTEND;TZID=America/New_York:20240205T090000
DTSTAMP:20260423T013914
CREATED:20240125T172345Z
LAST-MODIFIED:20240206T180458Z
UID:3227-1707121800-1707123600@stmaryholysavior.com
SUMMARY:No Mass - Priest Retreat
DESCRIPTION:
URL:https://stmaryholysavior.com/event/mass-830-am-at-st-marys-4/
CATEGORIES:Blue
END:VEVENT
BEGIN:VEVENT
DTSTART;TZID=America/New_York:20240206T083000
DTEND;TZID=America/New_York:20240206T090000
DTSTAMP:20260423T013914
CREATED:20240125T172538Z
LAST-MODIFIED:20240206T180737Z
UID:3244-1707208200-1707210000@stmaryholysavior.com
SUMMARY:No Mass - Priest Retreat
DESCRIPTION:
URL:https://stmaryholysavior.com/event/mass-830-am-at-st-marys-12/
CATEGORIES:Blue
END:VEVENT
BEGIN:VEVENT
DTSTART;TZID=America/New_York:20240207T083000
DTEND;TZID=America/New_York:20240207T090000
DTSTAMP:20260423T013914
CREATED:20240125T173238Z
LAST-MODIFIED:20240206T181018Z
UID:3291-1707294600-1707296400@stmaryholysavior.com
SUMMARY:No Mass - Priest Retreat
DESCRIPTION:
URL:https://stmaryholysavior.com/event/mass-830-am-at-st-marys-14/
CATEGORIES:Blue
END:VEVENT
BEGIN:VEVENT
DTSTART;TZID=America/New_York:20240208T083000
DTEND;TZID=America/New_York:20240208T090000
DTSTAMP:20260423T013914
CREATED:20240125T171422Z
LAST-MODIFIED:20240206T181134Z
UID:3179-1707381000-1707382800@stmaryholysavior.com
SUMMARY:No Mass - Priest Retreat
DESCRIPTION:
URL:https://stmaryholysavior.com/event/mass-830-am-at-st-marys-11-2024-02-08/
CATEGORIES:Blue
END:VEVENT
BEGIN:VEVENT
DTSTART;VALUE=DATE:20240211
DTEND;VALUE=DATE:20240212
DTSTAMP:20260423T013914
CREATED:20240207T155411Z
LAST-MODIFIED:20240207T155411Z
UID:3429-1707609600-1707695999@stmaryholysavior.com
SUMMARY:Sixth Sunday in Ordinary Time
DESCRIPTION:
URL:https://stmaryholysavior.com/event/sixth-sunday-in-ordinary-time/
CATEGORIES:Blue
END:VEVENT
BEGIN:VEVENT
DTSTART;TZID=America/New_York:20240212T083000
DTEND;TZID=America/New_York:20240212T090000
DTSTAMP:20260423T013914
CREATED:20240125T172345Z
LAST-MODIFIED:20240206T180412Z
UID:3228-1707726600-1707728400@stmaryholysavior.com
SUMMARY:Mass 8:30 AM at St. Mary's
DESCRIPTION:
URL:https://stmaryholysavior.com/event/mass-830-am-at-st-marys-4-2024-02-12/2024-02-12/
CATEGORIES:Blue
END:VEVENT
BEGIN:VEVENT
DTSTART;TZID=America/New_York:20240213T083000
DTEND;TZID=America/New_York:20240213T090000
DTSTAMP:20260423T013914
CREATED:20240125T172538Z
LAST-MODIFIED:20240206T180702Z
UID:3245-1707813000-1707814800@stmaryholysavior.com
SUMMARY:Mass 8:30 AM at St. Mary's
DESCRIPTION:
URL:https://stmaryholysavior.com/event/mass-830-am-at-st-marys-12-2024-02-13/2024-02-13/
CATEGORIES:Blue
END:VEVENT
BEGIN:VEVENT
DTSTART;TZID=America/New_York:20240213T163000
DTEND;TZID=America/New_York:20240213T183000
DTSTAMP:20260423T013914
CREATED:20240130T175037Z
LAST-MODIFIED:20240207T151318Z
UID:3297-1707841800-1707849000@stmaryholysavior.com
SUMMARY:Mardi Gras Dinner 4:30 PM in Parish Hall
DESCRIPTION:Serving:  Pancakes\, Mardi Gras Rice\, Pretzel Bits\, Bacon\, Scrapple\, Sausage\, King Cake & Surprise Desserts.  Cost:  $10 per person
URL:https://stmaryholysavior.com/event/mardi-gras-dinner-430-pm/
CATEGORIES:Yellow
END:VEVENT
BEGIN:VEVENT
DTSTART;TZID=America/New_York:20240214T083000
DTEND;TZID=America/New_York:20240214T213000
DTSTAMP:20260423T013914
CREATED:20240125T163215Z
LAST-MODIFIED:20240125T163215Z
UID:2242-1707899400-1707946200@stmaryholysavior.com
SUMMARY:Mass 8:30 AM at St. Mary's
DESCRIPTION:Ash Wednesday\, first day of Lent\, and a day of fasting.
URL:https://stmaryholysavior.com/event/mass-830-am-at-st-marys-10/
CATEGORIES:Blue
END:VEVENT
BEGIN:VEVENT
DTSTART;TZID=America/New_York:20240214T180000
DTEND;TZID=America/New_York:20240214T193000
DTSTAMP:20260423T013914
CREATED:20231212T181020Z
LAST-MODIFIED:20240125T163928Z
UID:1793-1707933600-1707939000@stmaryholysavior.com
SUMMARY:CANCELLED - Discovering our Dignity Bible Study 6:00 PM (Rita in Room 110)
DESCRIPTION:
URL:https://stmaryholysavior.com/event/discovering-our-dignity-bible-study-600-pm-rita-in-room-110-2024-02-14/
CATEGORIES:Yellow
END:VEVENT
BEGIN:VEVENT
DTSTART;TZID=America/New_York:20240214T180000
DTEND;TZID=America/New_York:20240214T193000
DTSTAMP:20260423T013914
CREATED:20231212T181222Z
LAST-MODIFIED:20240125T164102Z
UID:1810-1707933600-1707939000@stmaryholysavior.com
SUMMARY:CANCELLED - Youth Singing & Music Instruction 6:00 PM (Stewart in Room 111)
DESCRIPTION:
URL:https://stmaryholysavior.com/event/youth-singing-music-instruction-600-pm-stewart-in-room-111-2024-02-14/
CATEGORIES:Yellow
END:VEVENT
BEGIN:VEVENT
DTSTART;TZID=America/New_York:20240214T183000
DTEND;TZID=America/New_York:20240214T193000
DTSTAMP:20260423T013914
CREATED:20240125T163425Z
LAST-MODIFIED:20240125T163425Z
UID:2244-1707935400-1707939000@stmaryholysavior.com
SUMMARY:Mass 6:30 PM at Holy Savior
DESCRIPTION:Ash Wednesday\, the first day of Lent\, and a day of fasting.
URL:https://stmaryholysavior.com/event/mass-630-pm-at-holy-savior-3/
CATEGORIES:Blue
END:VEVENT
BEGIN:VEVENT
DTSTART;VALUE=DATE:20240218
DTEND;VALUE=DATE:20240219
DTSTAMP:20260423T013914
CREATED:20240207T155446Z
LAST-MODIFIED:20240207T155446Z
UID:3431-1708214400-1708300799@stmaryholysavior.com
SUMMARY:First Sunday of Lent
DESCRIPTION:
URL:https://stmaryholysavior.com/event/first-sunday-of-lent/
CATEGORIES:Blue
END:VEVENT
BEGIN:VEVENT
DTSTART;TZID=America/New_York:20240218T160000
DTEND;TZID=America/New_York:20240218T180000
DTSTAMP:20260423T013914
CREATED:20240130T175331Z
LAST-MODIFIED:20240130T175331Z
UID:3300-1708272000-1708279200@stmaryholysavior.com
SUMMARY:"Ask a Priest" 4:00 PM in Parish Hall
DESCRIPTION:
URL:https://stmaryholysavior.com/event/ask-a-priest-400-pm-in-parish-hall/
CATEGORIES:Yellow
END:VEVENT
BEGIN:VEVENT
DTSTART;VALUE=DATE:20240219
DTEND;VALUE=DATE:20240220
DTSTAMP:20260423T013914
CREATED:20231212T183523Z
LAST-MODIFIED:20231212T183523Z
UID:1834-1708300800-1708387199@stmaryholysavior.com
SUMMARY:President's Day
DESCRIPTION:
URL:https://stmaryholysavior.com/event/presidents-day/
END:VEVENT
BEGIN:VEVENT
DTSTART;VALUE=DATE:20240219
DTEND;VALUE=DATE:20240220
DTSTAMP:20260423T013914
CREATED:20231212T183707Z
LAST-MODIFIED:20231212T183707Z
UID:1836-1708300800-1708387199@stmaryholysavior.com
SUMMARY:Parish Office CLOSED
DESCRIPTION:
URL:https://stmaryholysavior.com/event/parish-office-closed-3/
CATEGORIES:Yellow
END:VEVENT
BEGIN:VEVENT
DTSTART;TZID=America/New_York:20240221T083000
DTEND;TZID=America/New_York:20240221T090000
DTSTAMP:20260423T013914
CREATED:20240125T172703Z
LAST-MODIFIED:20240125T172703Z
UID:3261-1708504200-1708506000@stmaryholysavior.com
SUMMARY:Mass 8:30 AM at St. Mary's
DESCRIPTION:
URL:https://stmaryholysavior.com/event/mass-830-am-at-st-marys-13/2024-02-21/
CATEGORIES:Blue
END:VEVENT
BEGIN:VEVENT
DTSTART;TZID=America/New_York:20240221T090000
DTEND;TZID=America/New_York:20240221T120000
DTSTAMP:20260423T013914
CREATED:20240125T173139Z
LAST-MODIFIED:20240125T173139Z
UID:3276-1708506000-1708516800@stmaryholysavior.com
SUMMARY:Adoration 9:00 AM at St. Mary's
DESCRIPTION:
URL:https://stmaryholysavior.com/event/adoration-900-am-at-st-marys/2024-02-21/
CATEGORIES:Blue
END:VEVENT
BEGIN:VEVENT
DTSTART;TZID=America/New_York:20240223T173000
DTEND;TZID=America/New_York:20240223T190000
DTSTAMP:20260423T013914
CREATED:20240130T175441Z
LAST-MODIFIED:20240130T175441Z
UID:3302-1708709400-1708714800@stmaryholysavior.com
SUMMARY:Lenten Souper 5:30PM in Parish Hall
DESCRIPTION:
URL:https://stmaryholysavior.com/event/lenten-souper-530pm-in-parish-hall/
CATEGORIES:Yellow
END:VEVENT
BEGIN:VEVENT
DTSTART;TZID=America/New_York:20240224T183000
DTEND;TZID=America/New_York:20240224T210000
DTSTAMP:20260423T013914
CREATED:20240207T164507Z
LAST-MODIFIED:20240207T164837Z
UID:3486-1708799400-1708808400@stmaryholysavior.com
SUMMARY:Senior ~ Senior Prom 6:30 PM (Parish Hall)
DESCRIPTION:Senior parishioners are invited by Parish Senior Youth Group for an evening of fun and food with DJ\, dinner\, door prizes\, dancing and a great time!  Tickets are $15 or 2 for $25.  For more info. call 410-289-7038 or email religioused@stmaryholysavior.com.
URL:https://stmaryholysavior.com/event/senior-senior-prom-630-pm-parish-hall/
CATEGORIES:Yellow
END:VEVENT
BEGIN:VEVENT
DTSTART;VALUE=DATE:20240225
DTEND;VALUE=DATE:20240226
DTSTAMP:20260423T013914
CREATED:20240207T155529Z
LAST-MODIFIED:20240207T155529Z
UID:3433-1708819200-1708905599@stmaryholysavior.com
SUMMARY:Second Sunday of Lent
DESCRIPTION:
URL:https://stmaryholysavior.com/event/second-sunday-of-lent/
CATEGORIES:Blue
END:VEVENT
END:VCALENDAR